BEGIN:VCALENDAR
VERSION:2.0
PRODID:-//NKBPS - ECPv6.5.0.1//NONSGML v1.0//EN
CALSCALE:GREGORIAN
METHOD:PUBLISH
X-WR-CALNAME:NKBPS
X-ORIGINAL-URL:https://nkbpsrohini.com
X-WR-CALDESC:Events for NKBPS
REFRESH-INTERVAL;VALUE=DURATION:PT1H
X-Robots-Tag:noindex
X-PUBLISHED-TTL:PT1H
BEGIN:VTIMEZONE
TZID:UTC
BEGIN:STANDARD
TZOFFSETFROM:+0000
TZOFFSETTO:+0000
TZNAME:UTC
DTSTART:20240101T000000
END:STANDARD
END:VTIMEZONE
BEGIN:VEVENT
DTSTART;TZID=UTC:20240401T080000
DTEND;TZID=UTC:20240401T170000
DTSTAMP:20260423T022605
CREATED:20240401T162046Z
LAST-MODIFIED:20240401T162046Z
UID:26291-1711958400-1711990800@nkbpsrohini.com
SUMMARY:New Session Begins for PP\, Satrarambh(Music Department)
DESCRIPTION:
URL:https://nkbpsrohini.com/event/new-session-begins-for-pp-satrarambhmusic-department/
END:VEVENT
END:VCALENDAR