BEGIN:VCALENDAR
VERSION:2.0
PRODID:-//NKBPS - ECPv6.5.0.1//NONSGML v1.0//EN
CALSCALE:GREGORIAN
METHOD:PUBLISH
X-WR-CALNAME:NKBPS
X-ORIGINAL-URL:https://nkbpsrohini.com
X-WR-CALDESC:Events for NKBPS
REFRESH-INTERVAL;VALUE=DURATION:PT1H
X-Robots-Tag:noindex
X-PUBLISHED-TTL:PT1H
BEGIN:VTIMEZONE
TZID:UTC
BEGIN:STANDARD
TZOFFSETFROM:+0000
TZOFFSETTO:+0000
TZNAME:UTC
DTSTART:20240101T000000
END:STANDARD
END:VTIMEZONE
BEGIN:VEVENT
DTSTART;TZID=UTC:20240405T080000
DTEND;TZID=UTC:20240405T170000
DTSTAMP:20260423T022602
CREATED:20240401T162257Z
LAST-MODIFIED:20240401T162257Z
UID:26299-1712304000-1712336400@nkbpsrohini.com
SUMMARY:Wellness Wonder Class II
DESCRIPTION:
URL:https://nkbpsrohini.com/event/wellness-wonder-class-ii/
END:VEVENT
END:VCALENDAR