BEGIN:VCALENDAR
VERSION:2.0
PRODID:-//NKBPS - ECPv6.5.0.1//NONSGML v1.0//EN
CALSCALE:GREGORIAN
METHOD:PUBLISH
X-WR-CALNAME:NKBPS
X-ORIGINAL-URL:https://nkbpsrohini.com
X-WR-CALDESC:Events for NKBPS
REFRESH-INTERVAL;VALUE=DURATION:PT1H
X-Robots-Tag:noindex
X-PUBLISHED-TTL:PT1H
BEGIN:VTIMEZONE
TZID:UTC
BEGIN:STANDARD
TZOFFSETFROM:+0000
TZOFFSETTO:+0000
TZNAME:UTC
DTSTART:20230101T000000
END:STANDARD
END:VTIMEZONE
BEGIN:VEVENT
DTSTART;TZID=UTC:20230418T080000
DTEND;TZID=UTC:20230418T140000
DTSTAMP:20260423T215807
CREATED:20230331T084639Z
LAST-MODIFIED:20230331T084639Z
UID:25473-1681804800-1681826400@nkbpsrohini.com
SUMMARY:World Heritage Day Celebration (I-II) ‘DARPAN’ 2023
DESCRIPTION:
URL:https://nkbpsrohini.com/event/world-heritage-day-celebration-i-ii-darpan-2023/
END:VEVENT
BEGIN:VEVENT
DTSTART;TZID=UTC:20230417T080000
DTEND;TZID=UTC:20230417T140000
DTSTAMP:20260423T215807
CREATED:20230331T084536Z
LAST-MODIFIED:20230331T084536Z
UID:25471-1681718400-1681740000@nkbpsrohini.com
SUMMARY:English Handwriting Comp. (I-V)\, Orientation Session(V)
DESCRIPTION:
URL:https://nkbpsrohini.com/event/english-handwriting-comp-i-v-orientation-sessionv/
END:VEVENT
BEGIN:VEVENT
DTSTART;TZID=UTC:20230415T080000
DTEND;TZID=UTC:20230415T140000
DTSTAMP:20260423T215807
CREATED:20230331T084441Z
LAST-MODIFIED:20230331T084557Z
UID:25469-1681545600-1681567200@nkbpsrohini.com
SUMMARY:Orientation Session(XI)\, Inter House Board Designing(G-20)\, G.K. Quiz on G20
DESCRIPTION:
URL:https://nkbpsrohini.com/event/orientation-sessionxi-inter-house-board-designingg-20-g-k-quiz-on-g20/
END:VEVENT
BEGIN:VEVENT
DTSTART;TZID=UTC:20230413T080000
DTEND;TZID=UTC:20230413T140000
DTSTAMP:20260423T215807
CREATED:20230331T083352Z
LAST-MODIFIED:20230331T083352Z
UID:25467-1681372800-1681394400@nkbpsrohini.com
SUMMARY:Baisakhi Celebration.- PS & PP \, Orientation Session(III) \, Kirigami Art (III - V)\, Baisakhi Class Assembly(6A\, 6B)
DESCRIPTION:
URL:https://nkbpsrohini.com/event/baisakhi-celebration-ps-pp-orientation-sessioniii-kirigami-art-iii-v-baisakhi-class-assembly6a-6b/
END:VEVENT
BEGIN:VEVENT
DTSTART;TZID=UTC:20230412T080000
DTEND;TZID=UTC:20230412T140000
DTSTAMP:20260423T215807
CREATED:20230328T084833Z
LAST-MODIFIED:20230328T084837Z
UID:25424-1681286400-1681308000@nkbpsrohini.com
SUMMARY:Interhouse Stand Up Comedy Comp. (IX)
DESCRIPTION:Interhouse Stand Up Comedy Comp. (IX)
URL:https://nkbpsrohini.com/event/interhouse-stand-up-comedy-comp-ix/
LOCATION:N.K. BAGRODIA PUBLIC SCHOOL\, ROHINI\, AHINSA MARG\, SECTOR-9\, ROHINI\, DELHI\, DELHI\, 110085\, India
END:VEVENT
BEGIN:VEVENT
DTSTART;TZID=UTC:20230411T080000
DTEND;TZID=UTC:20230411T140000
DTSTAMP:20260423T215807
CREATED:20230328T084716Z
LAST-MODIFIED:20230328T084725Z
UID:25422-1681200000-1681221600@nkbpsrohini.com
SUMMARY:Origami Art (I-II)\,Orientation Session(VIII)
DESCRIPTION:
URL:https://nkbpsrohini.com/event/origami-art-i-iiorientation-sessionviii/
END:VEVENT
BEGIN:VEVENT
DTSTART;TZID=UTC:20230410T080000
DTEND;TZID=UTC:20230410T140000
DTSTAMP:20260423T215807
CREATED:20230328T081950Z
LAST-MODIFIED:20230328T082922Z
UID:25386-1681113600-1681135200@nkbpsrohini.com
SUMMARY:Orientation Session(IX)
DESCRIPTION:
URL:https://nkbpsrohini.com/event/orientation-sessionix/
END:VEVENT
BEGIN:VEVENT
DTSTART;TZID=UTC:20230406T080000
DTEND;TZID=UTC:20230406T140000
DTSTAMP:20260423T215807
CREATED:20230328T080004Z
LAST-MODIFIED:20230328T080537Z
UID:25374-1680768000-1680789600@nkbpsrohini.com
SUMMARY:Orientation Session(VI) \, World Health Day Celebration - PS & PP\, Healthy Food Week (I-V)
DESCRIPTION:
URL:https://nkbpsrohini.com/event/orientation-sessionvi-world-health-day-celebration-ps-pp-healthy-food-week-i-v/
LOCATION:N.K. BAGRODIA PUBLIC SCHOOL\, ROHINI\, AHINSA MARG\, SECTOR-9\, ROHINI\, DELHI\, DELHI\, 110085\, India
END:VEVENT
BEGIN:VEVENT
DTSTART;TZID=UTC:20230403T080000
DTEND;TZID=UTC:20230403T140000
DTSTAMP:20260423T215807
CREATED:20230328T074802Z
LAST-MODIFIED:20230328T083127Z
UID:25362-1680508800-1680530400@nkbpsrohini.com
SUMMARY:Satrarambh- 2023
DESCRIPTION:
URL:https://nkbpsrohini.com/event/satrarambh-2023/
LOCATION:N.K. BAGRODIA PUBLIC SCHOOL\, ROHINI\, AHINSA MARG\, SECTOR-9\, ROHINI\, DELHI\, DELHI\, 110085\, India
END:VEVENT
END:VCALENDAR